BEGIN:VCALENDAR
VERSION:2.0
PRODID:-//wp-events-plugin.com//7.2.3.1//EN
TZID:Europe/Paris
X-WR-TIMEZONE:Europe/Paris
BEGIN:VEVENT
UID:77@suresnes-escalade.fr
DTSTART;TZID=Europe/Paris:20200210T130000
DTEND;TZID=Europe/Paris:20200213T160000
DTSTAMP:20200125T182816Z
URL:https://suresnes-escalade.fr/sorties/stage-escalade-pour-les-9-14-ans-
 pendant-les-vacances-de-fevrier/
SUMMARY:Stage escalade pour les 9/14 ans pendant les vacances de février
DESCRIPTION:Du lundi 10 février au jeudi 13 février\, de  13H00  à 16H
 00\n\n(Sous réserve d'un nombre suffisant de participants)\nPublic : jeun
 es adhérents du club\, de 9 à 14 ans\,\n\nLe stage est aussi ouvert aux 
 non adhérents du club\, dans la limite des places disponibles\n\nNombre d
 e places : 12.\n\nLieu : Gymnase du Belvédère\n\nEncadrement : Franck A
 nsquer\n\nL'inscription sera validée après réception du payement.\n\nTa
 rif : 60 euros pour les 4 après-midi pour les adhérents et 100 euros pou
 r les non adhérents\n\n(chèque à l'ordre de Suresnes Escalade\, à dép
 oser dans la boîte du club ou en ligne sur Helloasso)\n!! New !! Paiement
  CB  via site Helloasso =&gt\; ICI\nFormulaire à compléter\, à signer 
 et à déposer au club\nescalade-autorisation-stage vacances Suresnes 2018
  2019
LOCATION:\, \, 
X-APPLE-STRUCTURED-LOCATION;VALUE=URI;X-ADDRESS=\, ;X-APPLE-RADIUS=100;X-TI
 TLE=:geo:0,0
END:VEVENT
BEGIN:VTIMEZONE
TZID:Europe/Paris
X-LIC-LOCATION:Europe/Paris
BEGIN:STANDARD
DTSTART:20191027T020000
TZOFFSETFROM:+0200
TZOFFSETTO:+0100
TZNAME:CET
END:STANDARD
END:VTIMEZONE
END:VCALENDAR