BEGIN:VCALENDAR
VERSION:2.0
PRODID:-//wp-events-plugin.com//7.2.3.1//EN
TZID:Europe/Paris
X-WR-TIMEZONE:Europe/Paris
BEGIN:VEVENT
UID:100@suresnes-escalade.fr
DTSTART;TZID=Europe/Paris:20210513T073000
DTEND;TZID=Europe/Paris:20210516T190000
DTSTAMP:20210512T073832Z
URL:https://suresnes-escalade.fr/sorties/stage-pour-tous-a-saffres-du-13-a
 u-16-mai-2021/
SUMMARY:Stage pour tous à Saffres du 13 au 16 mai 2021
DESCRIPTION:Ce stage escalade en falaise est ouvert à tous : que vous soye
 z grimpeur (même sans passeport orange) ou que vous souhaitiez accompagne
 r un grimpeur.\n\nLe maintien de cette sortie est bien évidemment soumis 
 aux conditions sanitaires. L'inscription sera remboursée en cas d'annulat
 ion du fait des mesures gouvernementales. Cependant\, s'agissant d'une act
 ivité de plein air\, nous espérons qu'elle pourra avoir lieu.\n\nNous vo
 us proposons d'aller en Bourgogne grimper notamment à Saffres\, mais auss
 i à Géligny s'il faisait trop chaud.\n\n[caption id="attachment_6245" al
 ign="alignnone" width="384"] A Saffres\, selon les secteurs\, la hauteur v
 arie de 10m à 35m[/caption]\n\n[caption id="attachment_6239" align="align
 none" width="343"] La fameuse tour carrée de Saffres[/caption]\n\n[captio
 n id="attachment_6243" align="alignnone" width="340"] Une des 340 voies de
  Saffres[/caption]\n\nHébergement : en mobile-home avec terrasse au campi
 ng du lac de Panthier.\n\n[caption id="" align="alignnone" width="1024"] M
 obile-home avec terrasse[/caption]\n\nPour les non-grimpeurs le centre nau
 tique est ouvert. Prenez un maillot :-)\n\n\n\nRepas : A préparer nous-m
 êmes. Nous nous organiserons afin de faire les courses et répartir les p
 rovisions entre les mobile-homes. Les déjeuners seront sous forme de piqu
 e-nique afin de pouvoir être emportés sur le site d'escalade.\n\nEncadre
 ment de l'activité et des jeunes non accompagnés : Notre moniteur Olivie
 r sera présent.\n\nVous êtes adhérent à Suresnes escalade : si vous 
 êtes adulte\, vous pouvez venir seul ou avec conjoint et enfants si vous 
 le souhaitez et si c’est votre enfant qui est grimpeur à Suresnes Escal
 ade\, vous pouvez l’accompagner en famille.\n\nLes jeunes adhérents (à
  partir de 12 ans) peuvent également venir seuls\, ils seront pris en cha
 rge.\n\nAttention : Le nombre de jeunes adhérents non accompagnés est li
 mité aux 6 premiers inscrits ayants déposé un dossier complet.\n\nTrans
 port: Pour les jeunes non accompagnés et les participants non motorisés
 \, nous organiserons un co-voiturage entre vous et louerons un minibus si 
 nécessaire. Prévoyez environ 30€ à donner au chauffeur pour l'A/R.\n\
 nDates : Départ à 7h30 jeudi 13 matin avec votre pique-nique. Retour dim
 anche 16 afin d'être avant 19h à Suresnes (en fonction de l'heure du cou
 vre-feu).\n\nTarif : Il comprend le logement\, les repas et l’encadreme
 nt escalade. Ils ne comprend pas le transport aller/retour\, les bières o
 u autres boissons alcoolisées\, les visites de sites et les autres activi
 tés.\n\n 	Pour les non-grimpeurs : 150€\n 	Pour les grimpeurs adhérent
 s de Suresnes Escalade : 180€\n 	Pour les grimpeurs non-adhérents à Su
 resnes Escalade : 220€. Prévoir aussi le coût de la licence FFME (env.
  50€) si vous n'êtes pas licenciés.\n 	Pour ceux qui le peuvent\, poss
 ibilité d'arriver mercredi après-midi plutôt que partir jeudi matin tô
 t. Supplément de 18€/pers.\n\nUne fois inscrits "en attente"\, merci de
  procéder au réglement de votre séjour. Vous pouvez soit :\n\n 	Dépose
 r le règlement par chèque à l'ordre de Suresnes Escalade\, dans la boî
 te aux lettres du club (le gymnase est ouvert en semaine de 8h à 17h30)\,
  ou dans la boîte aux lettres extérieure (au niveau de la grille blanche
 )\, dans une enveloppe au nom de Suresnes escalade\, en notant au dos du c
 hèque séjour Saffres (et le nom des participants)\n 	Faire un virement d
 e la totalité du montant en précisant séjour Saffres et le nom des part
 icipants à l'IBAN de Suresnes Escalade : FR76 3000 3040 6800 0372 8801 28
 9. BIC SOGEFRPP.\n\nSi vous souhaitez arriver avant le mercredi ou après 
 le jeudi\, merci de nous contacter au préalable.\n\nLe club peut vous pr
 êter du matériel. Prévenez-nous s'il vous manque casque\, baudrier ou l
 onge.\n\nLes adhérents à Suresnes Escalade et leurs familles seront prio
 ritaires jusqu’au 2 mai. A partir de cette date\, les inscriptions exté
 rieures au club pourront être validées ainsi que les demandes particuli
 ères (dates d'arrivée/départ différentes).\n\nSi vous avez des questio
 ns appelez Jöry ou envoyez-lui un message : 06 08 910 180 ou jory92(à)gm
 ail.com (remplacez (à) par @)
CATEGORIES:Sortie Site Naturel
LOCATION:Saffres\, Bourgogne\, D119I\, Saffres\, Montbard\, 21350\, Côte d
 'Or\, France
X-APPLE-STRUCTURED-LOCATION;VALUE=URI;X-ADDRESS=D119I\, Saffres\, Montbard\
 , 21350\, Côte d'Or\, France;X-APPLE-RADIUS=100;X-TITLE=Saffres\, Bourgog
 ne:geo:0,0
END:VEVENT
BEGIN:VTIMEZONE
TZID:Europe/Paris
X-LIC-LOCATION:Europe/Paris
BEGIN:DAYLIGHT
DTSTART:20210328T030000
TZOFFSETFROM:+0100
TZOFFSETTO:+0200
TZNAME:CEST
END:DAYLIGHT
END:VTIMEZONE
END:VCALENDAR