BEGIN:VCALENDAR
VERSION:2.0
PRODID:-//wp-events-plugin.com//7.2.3.1//EN
TZID:Europe/Paris
X-WR-TIMEZONE:Europe/Paris
BEGIN:VEVENT
UID:44@suresnes-escalade.fr
DTSTART;TZID=Europe/Paris;VALUE=DATE:20170409
DTEND;TZID=Europe/Paris;VALUE=DATE:20170417
DTSTAMP:20170202T090130Z
URL:https://suresnes-escalade.fr/sorties/stage-pour-tous-au-thaurac/
SUMMARY:STAGE POUR TOUS AU THAURAC
DESCRIPTION:TARIFS :\n\nLe tarif comprend le logement\, les repas et l’e
 ncadrement escalade. Il ne comprend pas le transport aller/retour\n\nPour
  les participants non motorisés\, nous organiserons un co-voiturage entre
  vous (charge à vous de vous arranger pour les frais de route). Sinon\, O
 livier a 6 places dans sa voiture que nous réserverons en priorité aux j
 eunes qui viennent seuls (prévoir un surcoût de 50€)\n\n 	Pour les gri
 mpeurs adhérents de Suresnes Escalade : 300€\n 	Pour les grimpeurs non
 -adhérents à Suresnes Escalade : 370€\n 	Et pour les non-grimpeurs : 
 200€\n\n+ 50€ pour les jeunes qui seront dans la voiture d’Olivier (
 Nombre de places limitées).\n\nSi vous souhaitez venir quelques jours\, m
 erci de nous contacter au préalable.\n\nLes adhérents à Suresnes Escala
 de et leurs familles seront prioritaires jusqu’au 1er mars. A partir de 
 cette date\, les inscriptions extérieures au club pourront être validée
 s.\n\nEt si vous vous posez des questions\, n’hésitez pas à appeler Al
 ain au 06 33 78 03 11\n\nNous vous attendons nombreux pour cette belle des
 tination !\n\n&nbsp\;\n\nNB1 : Votre inscription sera validée après ré
 ception de votre règlement par Suresnes Escalade\n\nNB2 : Licence FFME ob
 ligatoire pour tous les grimpeurs
ATTACH;FMTTYPE=image/jpeg:https://suresnes-escalade.fr/wp-content/uploads/
 2017/02/thaurac1.jpg
CATEGORIES:Sortie Site Naturel
LOCATION:Montoulieu\, Place de l'Église\, Montoulieu\, 34190 \, France
GEO:43.9290068;3.7920162000000346
X-APPLE-STRUCTURED-LOCATION;VALUE=URI;X-ADDRESS=Place de l'Église\, Montou
 lieu\, 34190 \, France;X-APPLE-RADIUS=100;X-TITLE=Montoulieu:geo:43.929006
 8,3.7920162000000346
END:VEVENT
BEGIN:VTIMEZONE
TZID:Europe/Paris
X-LIC-LOCATION:Europe/Paris
BEGIN:DAYLIGHT
DTSTART:20170326T030000
TZOFFSETFROM:+0100
TZOFFSETTO:+0200
TZNAME:CEST
END:DAYLIGHT
END:VTIMEZONE
END:VCALENDAR