BEGIN:VCALENDAR
VERSION:2.0
PRODID:-//wp-events-plugin.com//7.2.3.1//EN
TZID:Europe/Paris
X-WR-TIMEZONE:Europe/Paris
BEGIN:VEVENT
UID:32@suresnes-escalade.fr
DTSTART;TZID=Europe/Paris:20160418T093000
DTEND;TZID=Europe/Paris:20160420T123000
DTSTAMP:20160319T085142Z
URL:https://suresnes-escalade.fr/sorties/stage-vacances-davril/
SUMMARY:Stage vacances d'avril
DESCRIPTION:Suresnes Escalade envisage d'organiser un stage pour les jeunes
  adhérents au gymnase du Belvédère pendant la première semaine des vac
 ances d'avril*\n\nDates : du lundi 18 au mercredi 20 avril 2016\n\nPublic 
 : jeunes de 7 à 15 ans\, adhérents du club\, tous niveaux\n\nHoraires : 
 3 matinées de 9h30 à 12h30 du lundi au mercredi\n\nParticipation : 50 eu
 ros pour les trois séances\n\n*Offre valable sous réserve d'acceptation 
 par la Mairie. Vous serez tenu informés dans les meilleurs délais.
CATEGORIES:Sortie Salle IdF,Sortie Site Naturel,Vie du club
LOCATION:\, \, 
X-APPLE-STRUCTURED-LOCATION;VALUE=URI;X-ADDRESS=\, ;X-APPLE-RADIUS=100;X-TI
 TLE=:geo:0,0
END:VEVENT
BEGIN:VTIMEZONE
TZID:Europe/Paris
X-LIC-LOCATION:Europe/Paris
BEGIN:DAYLIGHT
DTSTART:20160327T030000
TZOFFSETFROM:+0100
TZOFFSETTO:+0200
TZNAME:CEST
END:DAYLIGHT
END:VTIMEZONE
END:VCALENDAR