BEGIN:VCALENDAR
VERSION:2.0
PRODID:-//wp-events-plugin.com//7.2.3.1//EN
TZID:Europe/Paris
X-WR-TIMEZONE:Europe/Paris
BEGIN:VEVENT
UID:74@suresnes-escalade.fr
DTSTART;TZID=Europe/Paris:20191028T000000
DTEND;TZID=Europe/Paris:20191031T000000
DTSTAMP:20191019T112055Z
URL:https://suresnes-escalade.fr/sorties/stage_toussaint/
SUMMARY:Stage escalade pour les 9/14 ans pendant les vacances de la Toussai
 nt
DESCRIPTION:Du lundi 28 octobre à jeudi 31 octobre\, de  13H30  à 16H30
 \,\nPublic : jeunes adhérents du club\, de 9 à 14 ans\n\nNombre de place
 s : 12. Le nombre de places est atteint LES INSRCIPTIONS SONT CLOSES\n\nLi
 eu : Gymnase du Belvédère\n\nEncadrement : Franck Ansquer\n\nTarif : 60
  euros pour les 4 après-midi (chèque à l'ordre de Suresnes Escalade ou 
 en ligne sur Helloasso)\n!! New !! Paiement CB  via site Helloasso =&gt\;
  ICI\nLES INSRCIPTIONS SONT CLOSES\nFormulaire à compléter\, à signer e
 t à déposer au club\nescalade-autorisation-stage vacances Suresnes 2018 
 2019
LOCATION:\, \, 
X-APPLE-STRUCTURED-LOCATION;VALUE=URI;X-ADDRESS=\, ;X-APPLE-RADIUS=100;X-TI
 TLE=:geo:0,0
END:VEVENT
BEGIN:VTIMEZONE
TZID:Europe/Paris
X-LIC-LOCATION:Europe/Paris
BEGIN:STANDARD
DTSTART:20191027T020000
TZOFFSETFROM:+0200
TZOFFSETTO:+0100
TZNAME:CET
END:STANDARD
END:VTIMEZONE
END:VCALENDAR