BEGIN:VCALENDAR
VERSION:2.0
PRODID:-//wp-events-plugin.com//7.2.3.1//EN
TZID:Europe/Paris
X-WR-TIMEZONE:Europe/Paris
BEGIN:VEVENT
UID:50@suresnes-escalade.fr
DTSTART;TZID=Europe/Paris;VALUE=DATE:20170624
DTEND;TZID=Europe/Paris;VALUE=DATE:20170626
DTSTAMP:20170614T104328Z
URL:https://suresnes-escalade.fr/sorties/suresnes-sur-prises-10eme-edition
 /
SUMMARY:Suresnes Sur Prises : 10ème édition !
DESCRIPTION:Vous avez commencé l’escalade en loisir cette année et la c
 ompétition vous tente ?\nVous êtes déjà un compétiteur confirmé\, f
 éru de challenge ?\nCette 10e édition de Suresnes sur Prises est faite 
 pour vous !\nC’est une compétition promotionnelle (open) faisant parti
 e de la coupe régionale d’ile de France. Ouverte à tous à partir de 8
  ans\, elle rassemble tous les grimpeurs d’ile de France\, de tous nivea
 ux\, souhaitant conclure la saison d’escalade de manière festive.\n\n 	
 Journée du samedi 24 juin\, accueil 12:30 : Microbes\, Poussins\, Benjami
 ns\, Minimes.\n 	Journée du dimanche 25 juin\, accueil 9:00 : Cadets\, Ju
 niors\, Seniors\, Vétérans.\n\n&nbsp\;\n\nPour les adhérents de Suresne
 s Escalade \, inscription gratuite sur notre site ci-dessous.\n\nSi vous n
 ’êtes pas adhérent\, participation de 12 euros et inscription sur le s
 ite de la FFME :\n\n– Samedi 24 juin (de microbes à minimes) : http://w
 ww.ffme.fr/competition/fiche/4717.html\n– Dimanche 25 juin (de cadets à
  vétérans) : http://www.ffme.fr/competition/fiche/4718.html\n\n\nEt pour
  les enfants\, n’oubliez pas de signer l’autorisation parentale 2017.\
 n\nNous comptons sur votre participation et talents culinaires (gâteau\, 
 cake\, quiche\, boissons..)\; pour le goûter du samedi et pour l’apéro
  du dimanche.\n\n&nbsp\;\n\nDEROULEMENT DE LA COMPETITION :\n\nLes règle
 s de la compétition se rapprochent de celles des compétitions de difficu
 ltés avec 10 à 20 voies à grimper selon les catégories et un système 
 de notation par zone et top\, permettant à tous de grimper un maximum. Le
  top d’une voie est comptabilisé une fois la dernière dégaine clipée
 .\n\nNombre d’essais libres\, le but étant de grimper et de se faire pl
 aisir un maximum.\n\nHORAIRES :\n\n\n\n\nSamedi 24 juin\n\n&nbsp\;\nDiman
 che 25 juin\n\n&nbsp\;\n\n\nAccueil\n\n \nA partir de 12h30\nA partir de 
 9h\n\n\nFin des inscriptions et démarrage de la compétition\n\n \n13h30
 \n10h\n\n\nFin\n\n \n16h30 + goûter\n14h + apéro\n\n\nPodium\n17h\n14h3
 0\n\n\n\n&nbsp\;\n\nINFORMATIONS COMPLEMENTAIRES :\n\n 	Licence compétit
 ion (à défaut licence loisirs + Certificat médical de non contre-indica
 tion à la pratique de l’escalade en compétition)\n 	Lieu : gymnase du 
 belvédère à Suresnes (Tramway T2 belvédère).\n 	Chef Ouvreur : Olivie
 r Lebreton\n 	Date limite d’inscription : le mercredi 21 juin\n\nContact
  : competition@suresnes-escalade.fr
ATTACH;FMTTYPE=image/jpeg:https://suresnes-escalade.fr/wp-content/uploads/
 2017/04/Actu.jpg
CATEGORIES:Compétition,Vie du club
LOCATION:\, \, 
X-APPLE-STRUCTURED-LOCATION;VALUE=URI;X-ADDRESS=\, ;X-APPLE-RADIUS=100;X-TI
 TLE=:geo:0,0
END:VEVENT
BEGIN:VTIMEZONE
TZID:Europe/Paris
X-LIC-LOCATION:Europe/Paris
BEGIN:DAYLIGHT
DTSTART:20170326T030000
TZOFFSETFROM:+0100
TZOFFSETTO:+0200
TZNAME:CEST
END:DAYLIGHT
END:VTIMEZONE
END:VCALENDAR