BEGIN:VCALENDAR
VERSION:2.0
PRODID:-//wp-events-plugin.com//7.2.3.1//EN
TZID:Europe/Paris
X-WR-TIMEZONE:Europe/Paris
BEGIN:VEVENT
UID:24@suresnes-escalade.fr
DTSTART;TZID=Europe/Paris;VALUE=DATE:20150704
DTEND;TZID=Europe/Paris;VALUE=DATE:20150705
DTSTAMP:20150702T104737Z
URL:https://suresnes-escalade.fr/sorties/un-samedi-a-fontainebleau-77/
SUMMARY:Un samedi à Fontainebleau (77)
DESCRIPTION:Pendant que certains sont déjà partis en vacances\, il serait
  dommage de ne pas en profiter\, même en restant en Ile-de-France. La fo
 rêt de Fontainebleau et ses innombrables rochers s'offrent à nous pour p
 rofiter d'une belle journée ! Si vous ne la connaissez pas\, ce sera l'oc
 casion de découvrir\, et si vous connaissez déjà\, de vous trouver de n
 ouveaux objectifs ou de vous prélasser sur les "plages". Et si vraiment T
 outatis est contre nous\, nous pourrons malgré tout nous réfugier à Kar
 ma\, la toute nouvelle salle fédérale ou l'on peut faire au choix du blo
 c et/ou de la voie.\nDates :\nDépart Samedi 4 Juillet au matin à 10h.\n\
 nRetour le même jour dans la soirée.\n\nRepas :\nPique-nique à prévoir
  pour le midi\, et pour ceux qui veulent prolonger la journée\, un resto 
 à la charge de chacun le soir vers Milly-La-Foret ou Fontainebleau par ex
 emple.\n\nTransport :\nCovoiturage entre les inscrits.\n\n\nPour faciliter
  l'organisation de celui-ci\, merci de remplir le Doodle\n\nMatériel néc
 essaire pour l'Escalade :\nVos chaussons\, un crashpad (+baudrier et desce
 ndeur en cas de replis sur Karma)\n\nFourni par le club si vous n'en avez 
 pas : un crashpad\n\nConseillé : Colophane (Pof) pour ne pas abimer les r
 ochers\, ou Magnésie\n\nNiveau Requis :\nTout niveaux\n\nEncadrement :\nA
 ssuré par les grimpeurs entre eux.\n\nPlaces :\nLa forêt est grande\, pa
 s de limitation\, hormis celle induite par le covoiturage.\n\nCoût :\n Gr
 atuit si nous faisons du bloc dans la forêt.\n\nPlan de replis à Karma :
  Tarif FFME adulte 12€ (Tarifs complets ici - imprimez votre licence pou
 r en bénéficier) - Obligation de remplir l'autorisation parentale pour l
 es mineurs (ici)\n\nLes adhérents à Suresnes Escalade seront prioritaire
 s jusqu’au 1er Juillet. A partir de cette date\, les inscriptions extér
 ieures à Suresnes Escalade pourront être validées (dans la mesure des s
 tocks disponibles - et sous réserve d'être en possession d'une licence a
 daptée\, FFME\, FFGT\, CAF\, ...). Les inscriptions se font en ligne uni
 quement. Pour toute question un mail à sortie@suresnes-escalade.fr\, ou d
 irectement à Guillaume au pied des voies et le tour est joué.\n\nClôtur
 e des inscriptions : Jeudi 02 Juillet à 19h\n\n&nbsp\;
CATEGORIES:Sortie Site Naturel
LOCATION:Fontainebleau\, Route militaire\, Fontainebleau\, 77300 \, France
GEO:48.397104;2.717777999999953
X-APPLE-STRUCTURED-LOCATION;VALUE=URI;X-ADDRESS=Route militaire\, Fontaineb
 leau\, 77300 \, France;X-APPLE-RADIUS=100;X-TITLE=Fontainebleau:geo:48.397
 104,2.717777999999953
END:VEVENT
BEGIN:VTIMEZONE
TZID:Europe/Paris
X-LIC-LOCATION:Europe/Paris
BEGIN:DAYLIGHT
DTSTART:20150329T030000
TZOFFSETFROM:+0100
TZOFFSETTO:+0200
TZNAME:CEST
END:DAYLIGHT
END:VTIMEZONE
END:VCALENDAR