BEGIN:VCALENDAR
VERSION:2.0
PRODID:-//wp-events-plugin.com//7.2.3.1//EN
TZID:Europe/Paris
X-WR-TIMEZONE:Europe/Paris
BEGIN:VEVENT
UID:42@suresnes-escalade.fr
DTSTART;TZID=Europe/Paris:20161001T124500
DTEND;TZID=Europe/Paris:20161001T194500
DTSTAMP:20160923T075338Z
URL:https://suresnes-escalade.fr/sorties/un-samedi-dautomne-a-fontaineblea
 u/
SUMMARY:Un Samedi d'Automne à Fontainebleau
DESCRIPTION:Chers Adhérents\,\nVenez découvrir ou redécouvrir les rocher
 s de Fontainebleau\, pour grimper ou simplement profiter des belles couleu
 rs d'automne de la forêt\, lors de cette sortie à la journée.\n&nbsp\;\
 n\nDates :\nDépart Samedi 1er Octobre à 12h45.\n\nRetour le même jour d
 ans la soirée.\n\nRepas :\nPrévoir de quoi grignoter dans l'après midi 
 et de quoi boire\n\nTransport :\nCovoiturage entre les inscrits depuis le 
 gymnase du Belvédère\, merci de préciser le nombre de places disponible
 s dans votre voiture à l'inscription. - Le secteur de grimpe sera défini
  ultérieurement\n\nMatériel nécessaire pour l'Escalade :\nVos chaussons
 \, un crashpad\n\nFourni par le club si vous n'en avez pas : un crashpad\n
 \nConseillé : Colophane (Pof) pour ne pas abimer les rochers\, ou Magnés
 ie\n\nNiveau Requis :\nTout niveaux\n\nEncadrement :\nAssuré par Olivier 
 Le Breton notre BE du Lundi et Jeudi soir\n\nPlaces :\nLa forêt est grand
 e\, pas de limitation\, hormis celle induite par le covoiturage.\n\nCoût 
 :\n Gratuit\, mais prévoyez 5€ pour votre covoitureur\n\nLes adhérents
  à Suresnes Escalade seront prioritaires jusqu’au 29 Septembre. A parti
 r de cette date\, les inscriptions extérieures à Suresnes Escalade pourr
 ont être validées (dans la mesure des stocks disponibles - et sous rése
 rve d'être en possession d'une licence adaptée\, FFME\, FFGT\, CAF\, ...
 ). Les inscriptions se font en ligne uniquement. Pour toute question un m
 ail à sortie@suresnes-escalade.fr\, ou directement à May ou Guillaume au
  pied des voies et le tour est joué.\n\nClôture des inscriptions : Vendr
 edi 30 Septembre à 21h\n\nAnnulation : Si jamais les conditions météo n
 'étaient pas bonnes (tempête de neige\, brouillard givrant\, pluie inces
 sante\, ...) la sortie serait annulée (Pas de replis sur Karma ou Bloc Ou
 t 3)
CATEGORIES:Sortie Site Naturel
LOCATION:Forêt de Fontainebleau\, Chemin des Sables du Cul de Chien\, Nois
 y sur Ecole\, 77123\, France
GEO:48.37605600000001;2.5217549999999846
X-APPLE-STRUCTURED-LOCATION;VALUE=URI;X-ADDRESS=Chemin des Sables du Cul de
  Chien\, Noisy sur Ecole\, 77123\, France;X-APPLE-RADIUS=100;X-TITLE=Forê
 t de Fontainebleau:geo:48.37605600000001,2.5217549999999846
END:VEVENT
BEGIN:VTIMEZONE
TZID:Europe/Paris
X-LIC-LOCATION:Europe/Paris
BEGIN:DAYLIGHT
DTSTART:20160327T030000
TZOFFSETFROM:+0100
TZOFFSETTO:+0200
TZNAME:CEST
END:DAYLIGHT
END:VTIMEZONE
END:VCALENDAR