BEGIN:VCALENDAR
VERSION:2.0
PRODID:-//wp-events-plugin.com//7.2.3.1//EN
TZID:Europe/Paris
X-WR-TIMEZONE:Europe/Paris
BEGIN:VEVENT
UID:33@suresnes-escalade.fr
DTSTART;TZID=Europe/Paris;VALUE=DATE:20160513
DTEND;TZID=Europe/Paris;VALUE=DATE:20160517
DTSTAMP:20160325T185554Z
URL:https://suresnes-escalade.fr/sorties/via-ferrata-du-cote-de-modane-73/
SUMMARY:Via Ferrata du coté de Modane (73)
DESCRIPTION:La sortie via ferrata est de retour ! Pour faire suite à Die l
 'an passé c'est en vallée de Maurienne que nous allons clipper nos mousq
 uetons cette année. Pour ceux qui ne connaissent pas\, la via comme son
  nom l'indique\, consiste à suivre un itinéraire "ferré"\, à savoir un
  filin métallique qui fait office de ligne de vie\, à flanc de montagne 
 et agrémenté d'échelles\, ponts de singe et autres équipements permet
 tant de progresser. Pas de corde salvatrice donc\, mais une longe sur votr
 e baudrier reliée à cette fameuse ligne de vie. Pas de chaussons non plu
 s\, on sera bien plus à l'aise avec de bonnes "baskets" !\nProgramme Gén
 éral :\nAutour de Bramans qui sera notre camp de base\, 8 vias ont ét
 é repérées. Nous ne les ferons peut-être pas toutes mais il y aura du 
 choix. Nous nous rendrons sur les différents sites en voiture.\n\n\nNous 
 les pratiquerons par ordre de difficulté croissante sur les 4 jours pour 
 découvrir l'activité en toute sécurité et prendre confiance. Une bonne
  forme physique est bien entendue requise pour pouvoir suivre sans soucis.
 \n\nEn parallèle et complément nous aurons le loisir d'aller grimper au
 x environs sur les falaises alentours pour quand même grimper sur du vra
 i rocher.\n\nDates :\nDépart Vendredi 13 mai de bonne heure (6h\, c'est 
 un ordre d'idée\, ouille le réveil). Retour Lundi (de Pentecote)  16 
 mai\, tard dans la soirée.\n\nLogement :\nNous vous proposons de loger au
  camping "Le val d'Ambin" situé à Bramans (73) en chalets.\n\n\nRepas :
 \nLes repas du matin et du soir se prendront au camping. Ce sera pique niq
 ue le midi entre les vias !\n\nTransports :\nCovoiturage entre les inscrit
 s (si vous êtes véhiculés\, merci de le signaler à la réservation pou
 r faciliter l'organisation) depuis Suresnes et compris dans le prix (carbu
 rant et péages).\n\n\nMatériel nécessaire pour la Via :\nVotre baudrier
 \, de bonnes chaussures de marche\, votre longe classique\, un descendeur 
 et un machard (Paire de gants éventuellement). Fourni par le club si vous
  n'avez pas : casque\, longe de via.\n\nMatériel nécessaire en plus pour
  l'Escalade :\nVos chaussons. Fourni ub si vous n'avez pas : corde\, déga
 ines\, mousquetons.\n\n\nCoût :\nAdhérent : 140 euros par personne pour 
 les 4 jours.\nNon adhérent : 180 euros par personne pour les 4 jours.\n\n
 Places :\n10 Places sont disponibles dès le début\, il en sera ajouté e
 n fonction de la demande et sous réserve de places encore disponibles au 
 Camping.\n\n\n&nbsp\;\n\nLes adhérents à Suresnes Escalade seront priori
 taires jusqu’au 1er mai. A partir de cette date\, les inscriptions exté
 rieures à Suresnes Escalade pourront être validées (dans la mesure des 
 stocks disponibles). Les inscriptions se font en ligne uniquement. Pour t
 oute question un petit mail à sortie@suresnes-escalade.fr\, ou directemen
 t à Guillaume ou Christophe Massard au pied des voies et le tour est jou
 é.\n\nNB : Votre inscription sera validée dès réception de votre règl
 ement à Suresnes Escalade dans la boite à lettres située à l’entrée
  du gymnase.
ATTACH;FMTTYPE=image/jpeg:https://suresnes-escalade.fr/wp-content/uploads/
 2016/03/FB_IMG_1458932058063.jpg
CATEGORIES:Sortie Site Naturel
LOCATION:Camping du Val d'Ambin\, 602 Route de l’église\, BRAMANS\, 7350
 0\, France
GEO:45.2286133;6.7808893000000126
X-APPLE-STRUCTURED-LOCATION;VALUE=URI;X-ADDRESS=602 Route de l’église\, 
 BRAMANS\, 73500\, France;X-APPLE-RADIUS=100;X-TITLE=Camping du Val d'Ambin
 :geo:45.2286133,6.7808893000000126
END:VEVENT
BEGIN:VTIMEZONE
TZID:Europe/Paris
X-LIC-LOCATION:Europe/Paris
BEGIN:DAYLIGHT
DTSTART:20160327T030000
TZOFFSETFROM:+0100
TZOFFSETTO:+0200
TZNAME:CEST
END:DAYLIGHT
END:VTIMEZONE
END:VCALENDAR