BEGIN:VCALENDAR
VERSION:2.0
PRODID:-//wp-events-plugin.com//7.2.3.1//EN
TZID:Europe/Paris
X-WR-TIMEZONE:Europe/Paris
BEGIN:VEVENT
UID:48@suresnes-escalade.fr
DTSTART;TZID=Europe/Paris:20170504T170000
DTEND;TZID=Europe/Paris:20170508T170000
DTSTAMP:20170405T204155Z
URL:https://suresnes-escalade.fr/sorties/vias-et-grimpe-en-oisans-38/
SUMMARY:Vias et grimpe en Oisans (38)
DESCRIPTION:Via\, Acte 3. Après le Diois\, après la Maurienne\, c'est en 
 Isère et plus précisément en Oisans que nous avons choisi d'aller faire
  ce que certains appellent de "l'escalade pour randonneurs". Pour ceux qu
 i ne connaissent pas\, la via comme son nom l'indique\, consiste à suivr
 e un itinéraire "ferré"\, à savoir un filin métallique qui fait office
  de ligne de vie\, à flanc de montagne et agrémenté d'échelles\, ponts
  de singe et autres équipements permettant de progresser de manière lud
 ique. Pas de corde salvatrice donc\, mais une longe sur votre baudrier rel
 iée à cette fameuse ligne de vie. Pas de chaussons non plus\, on sera bi
 en plus à l'aise avec de bonnes "baskets" !\nProgramme Général :\nAprè
 s une halte à Lyon le jeudi soir pour avancer notre trajet nous nous diri
 gerons vers Bourg D'Oisans avec probablement une ou deux via effectuées V
 endredi sur le trajet. 7 vias ont été repérées ainsi que 3 sites de c
 ouennes pas trop durs. Nous ne les ferons peut-être pas toutes mais il y
  aura du choix. Nous nous rendrons sur les différents sites en voiture.\n
 \n\nNous les pratiquerons par ordre de difficulté croissante sur les 4 j
 ours pour découvrir l'activité en toute sécurité et prendre confiance
 . Une bonne forme physique est bien entendue requise pour pouvoir suivre s
 ans soucis. Les sites d'Escalade seront visités en fonction de l'humeur e
 t la motivation de chacun.\n\nDates :\nDépart Jeudi 4 Mai dans la soirée
 . Retour Lundi (Férié) 8 mai\, dans la soirée.\n\nLogement :\nNous vou
 s proposons de loger dans un des campings de Bourg d'Oisons dans des chal
 ets.\n\n\nRepas :\nLes repas du matin et du soir se prendront au camping. 
 Ce sera pique nique le midi entre les vies ! Et si resto il y a à un mome
 nt\, il sera à la charge de chacun.\n\nTransports :\nCovoiturage entre le
 s inscrits (si vous êtes véhiculés\, merci de le signaler à la réserv
 ation pour faciliter l'organisation) depuis Suresnes et compris dans le pr
 ix (carburant et péages)\, les chauffeurs seront remboursés des frais.\n
 \n\nNiveau : \n\nAbordable pour tout le monde\, 5B en tête si il fallait
  le situer\n\nMatériel nécessaire pour la Via :\nVotre baudrier\, de bon
 nes chaussures de marche\, votre longe classique\, un descendeur et un mac
 hard (Paire de gants éventuellement). Fourni par le club si vous n'avez p
 as : casque\, longe de via.\n\nMatériel nécessaire en plus pour l'Escala
 de :\nVos chaussons. Fourni si vous n'avez pas : corde\, dégaines\, mousq
 uetons.\n\n\nCoût : (Incluant Hébergement\, Transport\, Alimentation)\nA
 dhérent : 120 euros par personne pour les 4 jours.\nNon adhérent : 180
  euros par personne pour les 4 jours.\n\nPlaces :\n10 Places sont disponib
 les dès le début\, il en sera ajouté en fonction de la demande et sous 
 réserve de places encore disponibles au Camping. Clôture des inscription
 s le 29 Avril à 23h\n\n\nLes adhérents à Suresnes Escalade seront prior
 itaires jusqu’au 19 Avril. A partir de cette date\, les inscriptions ex
 térieures à Suresnes Escalade pourront être validées (dans la mesure d
 es stocks disponibles - et sous réserve d'être en possession d'une licen
 ce adaptée\, FFME\, FFGT\, CAF\, ...). Les inscriptions se font en ligne
  uniquement. Pour toute question un petit mail à sortie@suresnes-escalade
 .fr\, ou directement à Guillaume Pasquet ou Christophe Massard au pied de
 s voies et le tour est joué.\n\nNB : Votre inscription sera validée dès
  réception de votre règlement à Suresnes Escalade dans la boite à lett
 res située à l’entrée du gymnase.
ATTACH;FMTTYPE=image/jpeg:https://suresnes-escalade.fr/wp-content/uploads/
 2017/04/407898-diaporama.jpg
CATEGORIES:Sortie Site Naturel
LOCATION:Bourg d'Oisans\, 31 Quai Dr Girard\, Bourg d'Oisans\, 38520\, Fran
 ce
GEO:45.0554598;6.031154600000036
X-APPLE-STRUCTURED-LOCATION;VALUE=URI;X-ADDRESS=31 Quai Dr Girard\, Bourg d
 'Oisans\, 38520\, France;X-APPLE-RADIUS=100;X-TITLE=Bourg d'Oisans:geo:45.
 0554598,6.031154600000036
END:VEVENT
BEGIN:VTIMEZONE
TZID:Europe/Paris
X-LIC-LOCATION:Europe/Paris
BEGIN:DAYLIGHT
DTSTART:20170326T030000
TZOFFSETFROM:+0100
TZOFFSETTO:+0200
TZNAME:CEST
END:DAYLIGHT
END:VTIMEZONE
END:VCALENDAR