BEGIN:VCALENDAR
VERSION:2.0
PRODID:-//wp-events-plugin.com//7.2.3.1//EN
TZID:Europe/Paris
X-WR-TIMEZONE:Europe/Paris
BEGIN:VEVENT
UID:31@suresnes-escalade.fr
DTSTART;TZID=Europe/Paris:20160527T190000
DTEND;TZID=Europe/Paris:20160529T200000
DTSTAMP:20160325T155540Z
URL:https://suresnes-escalade.fr/sorties/week-end-a-cormot-21/
SUMMARY:Week-End à Cormot (21)
DESCRIPTION:Un week-end de grimpe intensive à Cormot\, c'est tout le but d
 e cette sortie\nLes falaises de Cormot sont les plus hautes de Bourgogne (
 jusqu'à 40m) et constituent l'un des sites majeurs de grimpe de la régio
 n. Il y a de nombreuses voies pour tout les gouts et tout les niveaux (un
  peu élevé quand même). De quoi quitter la résine du mur et grimper\,
  performer\, faire des croix en exterieur sur  du calcaire en lieu et pl
 ace de notre résine Suresnoise\, le tout dans un cadre naturel agréable.
 \nDates :\nDépart vendredi 27 Mai dans la soirée à partir de 19h. Poss
 ibilité de nous rejoindre directement sur place le samedi matin sous rés
 erve de covoitureurs disponibles.\n\nRetour dimanche 29 Mai dans la soir
 ée.\n\nLogement :\nNous vous proposons de loger au gite du CAF de Vauchig
 non dans un grand dortoir commun. Prévoir un duvet\n\n\nRepas :\nLes repa
 s du matin se prendront au gite pour bien démarrer la journée. Le midi 
 à base de sandwich et pourquoi pas un resto le samedi soir !\n\nTransport
 s :\nCovoiturage entre les inscrits (si vous êtes véhiculés\, merci de 
 le signaler à la réservation pour faciliter l'organisation) depuis Sures
 nes et compris dans le prix (carburant et péages).\n\n\nMatériel nécess
 aire pour l'Escalade :\nVotre baudrier\, vos chaussons\, une longe (commun
 ément appelée "vache")\n\nFourni par le club si vous n'en avez pas : un 
 système d'assurage\, un casque\n\nFourni par le club : corde\, dégaines\
 , mousquetons.\n\n\nNiveau Requis :\nPasseport FFME Orange et grimpeur à 
 l'aise en tête dans le 5C\n\nEncadrement :\nAssuré par Olivier Lebreton\
 , Brevet d'Etat\, au club les Lundi et Jeudi\n\nPlaces :\n17 Places sont d
 isponibles\, de quoi remplir le dortoir du gite.\n\nCoût :\n Adhérent : 
 100 euros par personne pour les 2 jours.\nNon adhérent : 140 euros par pe
 rsonne pour les 2 jours.\n\nLes adhérents à Suresnes Escalade seront pri
 oritaires jusqu’au 16 Mai. A partir de cette date\, les inscriptions ext
 érieures à Suresnes Escalade pourront être validées (dans la mesure de
 s stocks disponibles - et sous réserve d'être en possession d'une licenc
 e adaptée\, FFME\, FFGT\, CAF\, ...). Les inscriptions se font en ligne 
 uniquement. Pour toute question un petit mail à sortie@suresnes-escalade.
 fr\, ou directement à Guillaume ou Laurent Fromont au pied des voies et l
 e tour est joué.\n\nNB : Votre inscription sera validée dès réception 
 de votre règlement à Suresnes Escalade dans la boite à lettres située 
 à l’entrée du gymnase.
ATTACH;FMTTYPE=image/jpeg:https://suresnes-escalade.fr/wp-content/uploads/
 2015/06/2015-06-13-13.35.38.jpg
CATEGORIES:Sortie Site Naturel
LOCATION:Cormot\, 4 rue du ruisseau\, Vauchignon\, 21340\, France
GEO:46.97593699999999;4.643843999999945
X-APPLE-STRUCTURED-LOCATION;VALUE=URI;X-ADDRESS=4 rue du ruisseau\, Vauchig
 non\, 21340\, France;X-APPLE-RADIUS=100;X-TITLE=Cormot:geo:46.975936999999
 99,4.643843999999945
END:VEVENT
BEGIN:VTIMEZONE
TZID:Europe/Paris
X-LIC-LOCATION:Europe/Paris
BEGIN:DAYLIGHT
DTSTART:20160327T030000
TZOFFSETFROM:+0100
TZOFFSETTO:+0200
TZNAME:CEST
END:DAYLIGHT
END:VTIMEZONE
END:VCALENDAR